BEGIN:VCALENDAR
VERSION:2.0
PRODID:gruene-potsdam.de
METHOD:PUBLISH
BEGIN:VTIMEZONE
TZID:Europe/Berlin
X-LIC-LOCATION:Europe/Berlin
BEGIN:DAYLIGHT
TZOFFSETFROM:+0100
TZOFFSETTO:+0200
TZNAME:CEST
DTSTART:19700329T020000
RRULE:FREQ=YEARLY;INTERVAL=1;BYDAY=-1SU;BYMONTH=3
END:DAYLIGHT
BEGIN:STANDARD
TZOFFSETFROM:+0200
TZOFFSETTO:+0100
TZNAME:CET
DTSTART:19701025T030000
RRULE:FREQ=YEARLY;INTERVAL=1;BYDAY=-1SU;BYMONTH=10
END:STANDARD
END:VTIMEZONE
BEGIN:VEVENT
UID:93ef32976498fd026daecc0969cf5ccb@gruene-potsdam.de
URL;VALUE=URI:https://gruene-potsdam.de/termine/sitzung-des-kreisvorstand
 s-3/
LOCATION:
SUMMARY:Sitzung des Kreisvorstands
DESCRIPTION;ALTREP="data:text/html,%3Cp%3EAlle%20Mitglieder%20sind%20herz
 lich%20eingeladen%2C%20an%20der%20Vorstandssitzung%20teilzunehmen.%20Anme
 ldungen%20bitte%20an%3A%20vorstand%40gruene-potsdam.de%20%3C%2Fp%3E":Alle
  Mitglieder sind herzlich eingeladen\, an der Vorstandssitzung teilzunehm
 en. Anmeldungen bitte an: vorstand@gruene-potsdam.de
CLASS:PUBLIC
DTSTART;TZID=Europe/Berlin:20260526T173000
DTEND;TZID=Europe/Berlin:20260526T190000
DTSTAMP:20260423T164705
END:VEVENT
END:VCALENDAR