BEGIN:VCALENDAR
VERSION:2.0
PRODID:gruene-potsdam.de
METHOD:PUBLISH
BEGIN:VTIMEZONE
TZID:Europe/Berlin
X-LIC-LOCATION:Europe/Berlin
BEGIN:DAYLIGHT
TZOFFSETFROM:+0100
TZOFFSETTO:+0200
TZNAME:CEST
DTSTART:19700329T020000
RRULE:FREQ=YEARLY;INTERVAL=1;BYDAY=-1SU;BYMONTH=3
END:DAYLIGHT
BEGIN:STANDARD
TZOFFSETFROM:+0200
TZOFFSETTO:+0100
TZNAME:CET
DTSTART:19701025T030000
RRULE:FREQ=YEARLY;INTERVAL=1;BYDAY=-1SU;BYMONTH=10
END:STANDARD
END:VTIMEZONE
BEGIN:VEVENT
UID:603dc09279acff5dab4d283d5432c929@gruene-potsdam.de
URL;VALUE=URI:https://gruene-potsdam.de/termine/ortsgruppe-potsdam-west-d
 orfspaziergang-golm/
LOCATION:Treffpunkt mit Fahrrad in Golm Rewe Parkplatz
SUMMARY:Ortsgruppe Potsdam West: Geführte Radtour Golm
DESCRIPTION;ALTREP="data:text/html,%3Cp%3EDorfrundgang%20mit%20Ortsbeirat
 %20in%20Golm%20mit%20politischem%20Blick%20auf%20aktuelle%20Debatten%20mi
 t%20dem%20Fahrrad.%20Weitere%20informationen%20folgen.%3Cbr%20%2F%3E%0A%3
 Cbr%20%2F%3E%0ABei%20Fragen%20oder%20Interesse%20melden%20bei%20Marcel%3A
 %20og-west%40gruene-potsdam.de%3C%2Fp%3E":Dorfrundgang mit Ortsbeirat in 
 Golm mit politischem Blick auf aktuelle Debatten mit dem Fahrrad. Weitere
  informationen folgen.\n\nBei Fragen oder Interesse melden bei Marcel: og
 -west@gruene-potsdam.de
CLASS:PUBLIC
DTSTART;TZID=Europe/Berlin:20260523T100000
DTEND;TZID=Europe/Berlin:20260523T130000
DTSTAMP:20260423T165325
END:VEVENT
END:VCALENDAR