BEGIN:VCALENDAR
VERSION:2.0
PRODID:gruene-potsdam.de
METHOD:PUBLISH
BEGIN:VTIMEZONE
TZID:Europe/Berlin
X-LIC-LOCATION:Europe/Berlin
BEGIN:DAYLIGHT
TZOFFSETFROM:+0100
TZOFFSETTO:+0200
TZNAME:CEST
DTSTART:19700329T020000
RRULE:FREQ=YEARLY;INTERVAL=1;BYDAY=-1SU;BYMONTH=3
END:DAYLIGHT
BEGIN:STANDARD
TZOFFSETFROM:+0200
TZOFFSETTO:+0100
TZNAME:CET
DTSTART:19701025T030000
RRULE:FREQ=YEARLY;INTERVAL=1;BYDAY=-1SU;BYMONTH=10
END:STANDARD
END:VTIMEZONE
BEGIN:VEVENT
UID:bd98a3cc0ed4c9db71e71b7f72884918@gruene-potsdam.de
URL;VALUE=URI:https://gruene-potsdam.de/termine/kreismitgliederversammlun
 g-2/
LOCATION:tba
SUMMARY:Kreismitgliederversammlung
DESCRIPTION;ALTREP="data:text/html,%3Cp%3EMitgliederversammlung%20-%20wei
 tere%20Infos%20folgen%3C%2Fp%3E":Mitgliederversammlung - weitere Infos fo
 lgen
CLASS:PUBLIC
DTSTART;TZID=Europe/Berlin:20261001T180000
DTEND;TZID=Europe/Berlin:20261001T200000
DTSTAMP:20260423T170428
END:VEVENT
END:VCALENDAR