BEGIN:VCALENDAR
VERSION:2.0
PRODID:gruene-potsdam.de
METHOD:PUBLISH
BEGIN:VTIMEZONE
TZID:Europe/Berlin
X-LIC-LOCATION:Europe/Berlin
BEGIN:DAYLIGHT
TZOFFSETFROM:+0100
TZOFFSETTO:+0200
TZNAME:CEST
DTSTART:19700329T020000
RRULE:FREQ=YEARLY;INTERVAL=1;BYDAY=-1SU;BYMONTH=3
END:DAYLIGHT
BEGIN:STANDARD
TZOFFSETFROM:+0200
TZOFFSETTO:+0100
TZNAME:CET
DTSTART:19701025T030000
RRULE:FREQ=YEARLY;INTERVAL=1;BYDAY=-1SU;BYMONTH=10
END:STANDARD
END:VTIMEZONE
BEGIN:VEVENT
UID:b09c7962cb7b9e9a269a23ef3febe651@gruene-potsdam.de
URL;VALUE=URI:https://gruene-potsdam.de/termine/gruener-salon-medienstand
 ort-babelsberg/
LOCATION:Grünes Ladenlokal, Charlottenstr. 90/91, Potsdam
SUMMARY:Grüner Salon: Medienstandort Babelsberg
DESCRIPTION;ALTREP="data:text/html,%3Cp%3EGr%C3%BCner%20Salon%20zu%20den%
 20Herausforderungen%20des%20Medienstandorts%20Babelsberg%3Cbr%20%2F%3E%0A
 %3Cbr%20%2F%3E%0AWeitere%20Informationen%20folgen%3C%2Fp%3E":Grüner Salo
 n zu den Herausforderungen des Medienstandorts Babelsberg\n\nWeitere Info
 rmationen folgen
CLASS:PUBLIC
DTSTART;TZID=Europe/Berlin:20260527T190000
DTEND;TZID=Europe/Berlin:20260527T200000
DTSTAMP:20260423T165301
END:VEVENT
END:VCALENDAR