BEGIN:VCALENDAR
VERSION:2.0
PRODID:gruene-potsdam.de
METHOD:PUBLISH
BEGIN:VTIMEZONE
TZID:Europe/Berlin
X-LIC-LOCATION:Europe/Berlin
BEGIN:DAYLIGHT
TZOFFSETFROM:+0100
TZOFFSETTO:+0200
TZNAME:CEST
DTSTART:19700329T020000
RRULE:FREQ=YEARLY;INTERVAL=1;BYDAY=-1SU;BYMONTH=3
END:DAYLIGHT
BEGIN:STANDARD
TZOFFSETFROM:+0200
TZOFFSETTO:+0100
TZNAME:CET
DTSTART:19701025T030000
RRULE:FREQ=YEARLY;INTERVAL=1;BYDAY=-1SU;BYMONTH=10
END:STANDARD
END:VTIMEZONE
BEGIN:VEVENT
UID:35c6f9b79eabd06baca7f8ed439697db@gruene-potsdam.de
URL;VALUE=URI:https://gruene-potsdam.de/termine/feministischer-buchclub/
LOCATION:Grünes Ladenlokal, Charlottenstraße 
SUMMARY:Feministischer Buchclub
DESCRIPTION;ALTREP="data:text/html,%3Cp%3EWir%20lesen%20und%20diskutieren
 %20das%20Buch%3A%20%E2%80%9EAlle%20Zeit-%20Eine%20Frage%20von%20Macht%20u
 nd%20Freiheit%E2%80%9C%20von%20Teresa%20B%C3%BCcker.%20Eine%20Anmeldung%2
 0ist%20nicht%20erforderlich%2C%20kommt%20einfach%20vorbei.%20Falls%20Ihr%
 20Fragen%20habt%2C%20meldet%20Euch%20bei%20Sophie%20oder%20Eva%20Eva.Bech
 er%40gruene-potsdam.de%3C%2Fp%3E":Wir lesen und diskutieren das Buch: „
 Alle Zeit- Eine Frage von Macht und Freiheit“ von Teresa Bücker. Eine 
 Anmeldung ist nicht erforderlich\, kommt einfach vorbei. Falls Ihr Fragen
  habt\, meldet Euch bei Sophie oder Eva Eva.Becher@gruene-potsdam.de
CLASS:PUBLIC
DTSTART;TZID=Europe/Berlin:20260424T180000
DTEND;TZID=Europe/Berlin:20260424T190000
DTSTAMP:20260423T164954
END:VEVENT
END:VCALENDAR